BEGIN:VCALENDAR
VERSION:2.0
PRODID:-//ChamberMaster//Event Calendar 2.0//EN
METHOD:PUBLISH
X-PUBLISHED-TTL:P3D
REFRESH-INTERVAL:P3D
CALSCALE:GREGORIAN
BEGIN:VEVENT
DTSTART:20191113T130000Z
DTEND:20191113T150000Z
X-MICROSOFT-CDO-ALLDAYEVENT:FALSE
SUMMARY:2019 - Annual Legislative Breakfast: Regional Business Summit
DESCRIPTION:Join us with our Co Hosts\, Fredericksburg Area Association of Realtors(FAAR) and the Fredericksburg Regional Chamber of Commerce\, for the Fredericksburg Regional Business Summit. The morning panel with feature state and local elected officials\, business leaders and policy experts.\n\n-Senator Bryce Reeves\n\n-Senator Scott Surovell\n\n-Delegate Jennifer Carroll Foy\n\n-Delegate Mark Cole\n\n-Delegate John McGuire\n\n\n\nDuring the panel\, each speaker will sit at a table for several minutes   asking and answering questions with the members   before rotating to a different table. By the end of the morning panel\, you will have met all speakers and had the opportunity to ask each of them a question. \n\n\n\nTo have balanced discourse\, our first panel will feature legislators and business leaders advocating for more sustainable and viable transportation solutions. Our next panel will feature members of the real estate and development industries from our partners at the Chamber and FAAR to discuss growth in the region.
X-ALT-DESC;FMTTYPE=text/html:Join us with our Co Hosts\, Fredericksburg Area Association of Realtors(FAAR) and the Fredericksburg Regional Chamber of Commerce\, for the Fredericksburg Regional Business Summit. The morning panel with feature state and local elected officials\, business leaders and policy experts.<br />\n-Senator Bryce Reeves<br />\n-Senator Scott Surovell<br />\n-Delegate Jennifer Carroll Foy<br />\n-Delegate Mark Cole<br />\n-Delegate John McGuire<br />\n<br />\n<span style="margin: 0px\; padding: 0px\; outline: 0px\; bottom: auto\; box-sizing: content-box\; clear: none\; color: rgb(29\, 33\, 41)\; content: normal\; direction: inherit\; empty-cells: show\; font-variant-numeric: inherit\; font-variant-east-asian: inherit\; font-stretch: inherit\; font-size: 14px\; font-family: Helvetica\, Arial\, sans-serif\; left: auto\; line-height: inherit\; max-height: none\; max-width: none\; min-height: initial\; min-width: initial\; opacity: 1\; outline-offset: 0px\; overflow: visible\; position: static\; resize: none\; right: auto\; table-layout: auto\; text-overflow: clip\; top: auto\; vertical-align: baseline\; visibility: inherit\; word-break: inherit\; overflow-wrap: inherit\; z-index: auto\; background: none\; border: none\; border-collapse: separate\; border-radius: 0px\; height: auto\; width: auto\; box-shadow: none\;">During the panel\, each speaker will sit at a table for several minutes &ndash\; asking and answering questions with the members &ndash\; before rotating to a different table. By the end of the morning panel\, you will have met all speakers and had the opportunity to ask each of them a question.&nbsp\;</span><br style="margin: 0px\; padding: 0px\; outline: 0px\; bottom: auto\; box-sizing: content-box\; clear: none\; color: rgb(29\, 33\, 41)\; content: normal\; direction: inherit\; display: inline\; empty-cells: show\; float: none\; font-variant-numeric: inherit\; font-variant-east-asian: inherit\; font-stretch: inherit\; font-size: 14px\; font-family: Helvetica\, Arial\, sans-serif\; left: auto\; line-height: inherit\; max-height: none\; max-width: none\; min-height: initial\; min-width: initial\; opacity: 1\; outline-offset: 0px\; overflow: visible\; position: static\; resize: none\; right: auto\; table-layout: auto\; text-overflow: clip\; top: auto\; vertical-align: baseline\; visibility: inherit\; word-break: inherit\; overflow-wrap: inherit\; z-index: auto\; background: none\; border: none\; border-collapse: separate\; border-radius: 0px\; height: auto\; width: auto\;" />\n<br style="margin: 0px\; padding: 0px\; outline: 0px\; bottom: auto\; box-sizing: content-box\; clear: none\; color: rgb(29\, 33\, 41)\; content: normal\; direction: inherit\; display: inline\; empty-cells: show\; float: none\; font-variant-numeric: inherit\; font-variant-east-asian: inherit\; font-stretch: inherit\; font-size: 14px\; font-family: Helvetica\, Arial\, sans-serif\; left: auto\; line-height: inherit\; max-height: none\; max-width: none\; min-height: initial\; min-width: initial\; opacity: 1\; outline-offset: 0px\; overflow: visible\; position: static\; resize: none\; right: auto\; table-layout: auto\; text-overflow: clip\; top: auto\; vertical-align: baseline\; visibility: inherit\; word-break: inherit\; overflow-wrap: inherit\; z-index: auto\; background: none\; border: none\; border-collapse: separate\; border-radius: 0px\; height: auto\; width: auto\;" />\n<span style="margin: 0px\; padding: 0px\; outline: 0px\; bottom: auto\; box-sizing: content-box\; clear: none\; color: rgb(29\, 33\, 41)\; content: normal\; direction: inherit\; empty-cells: show\; font-variant-numeric: inherit\; font-variant-east-asian: inherit\; font-stretch: inherit\; font-size: 14px\; font-family: Helvetica\, Arial\, sans-serif\; left: auto\; line-height: inherit\; max-height: none\; max-width: none\; min-height: initial\; min-width: initial\; opacity: 1\; outline-offset: 0px\; overflow: visible\; position: static\; resize: none\; right: auto\; table-layout: auto\; text-overflow: clip\; top: auto\; vertical-align: baseline\; visibility: inherit\; word-break: inherit\; overflow-wrap: inherit\; z-index: auto\; background: none\; border: none\; border-collapse: separate\; border-radius: 0px\; height: auto\; width: auto\; box-shadow: none\;">To have balanced discourse\, our first panel will feature leg</span><span class="text_exposed_show" style="margin: 0px\; padding: 0px\; outline: 0px\; bottom: auto\; box-sizing: content-box\; clear: none\; color: rgb(29\, 33\, 41)\; content: normal\; direction: inherit\; display: inline\; empty-cells: show\; float: none\; font-variant-numeric: inherit\; font-variant-east-asian: inherit\; font-stretch: inherit\; font-size: 14px\; font-family: Helvetica\, Arial\, sans-serif\; left: auto\; line-height: inherit\; max-height: none\; max-width: none\; min-height: initial\; min-width: initial\; opacity: 1\; outline-offset: 0px\; overflow: visible\; position: static\; resize: none\; right: auto\; table-layout: auto\; text-overflow: clip\; top: auto\; vertical-align: baseline\; visibility: inherit\; word-break: inherit\; overflow-wrap: inherit\; z-index: auto\; background: none\; border: none\; border-collapse: separate\; border-radius: 0px\; height: auto\; width: auto\; box-shadow: none\;">islators and business leaders advocating for more sustainable and viable transportation solutions. Our next panel will feature members of the real estate and development industries from our partners at the Chamber and FAAR to discuss growth in the region.&nbsp\;</span>
LOCATION:Riverside Center 95 Riverside Pkwy Fredericksburg\, VA 22406
UID:e.9458.2957
SEQUENCE:3
DTSTAMP:20260422T083610Z
URL:http://fabava.memberzone.com/events/details/2019-annual-legislative-breakfast-regional-business-summit-2957
END:VEVENT

END:VCALENDAR
