BEGIN:VCALENDAR
VERSION:2.0
PRODID:-//ChamberMaster//Event Calendar 2.0//EN
METHOD:PUBLISH
X-PUBLISHED-TTL:P3D
REFRESH-INTERVAL:P3D
CALSCALE:GREGORIAN
BEGIN:VEVENT
DTSTART:20180131T133000Z
DTEND:20180131T143000Z
X-MICROSOFT-CDO-ALLDAYEVENT:FALSE
SUMMARY:2018 - "What's the DEAL with Hard Money Lending?"
DESCRIPTION:Thinking about building a spec house or investing in land this year?\n\nJoin SMC and FABA to learn more about HARD MONEY LENDING options available to you. There are options and lenders who can help your achieve your goals this year!\n\n\n\n"What's the DEAL with Hard Money Lending?"\n\nPresented by William M. Barber of the Foundation Companies\n\n \n\nSMC Sponsored at the FABA office.\n\nOpen to all FABA Members (do not have to be a 2018 SMC member to attend)!
X-ALT-DESC;FMTTYPE=text/html:<span style="font-size:16px\;"><strong>Thinking about building a spec house or investing in land this year?</strong></span><br />\nJoin SMC and FABA&nbsp\;to learn more about HARD MONEY LENDING options available to you.&nbsp\;There are options and lenders who can help your achieve your goals this year!<br />\n<br />\n<span style="font-size:16px\;"><strong>&quot\;What&#39\;s the DEAL with Hard Money Lending?&quot\;</strong></span><br />\nPresented by William M. Barber of the Foundation Companies<br />\n&nbsp\;<br />\nSMC Sponsored at the FABA office.<br />\nOpen to all FABA&nbsp\;Members&nbsp\;<em>(do not have to be a 2018 SMC member to attend</em>)!<br />\n&nbsp\;
LOCATION:FABA Boardroom 3006 Lafayette Blvd Fredericksburg\, VA 22408
UID:e.9458.1209
SEQUENCE:3
DTSTAMP:20260424T071203Z
URL:http://fabava.memberzone.com/events/details/2018-what-s-the-deal-with-hard-money-lending-1209
END:VEVENT

END:VCALENDAR
