BEGIN:VCALENDAR
VERSION:2.0
PRODID:-//ChamberMaster//Event Calendar 2.0//EN
METHOD:PUBLISH
X-PUBLISHED-TTL:P3D
REFRESH-INTERVAL:P3D
CALSCALE:GREGORIAN
BEGIN:VEVENT
DTSTART:20181021T173000Z
DTEND:20181021T193000Z
X-MICROSOFT-CDO-ALLDAYEVENT:FALSE
SUMMARY:2018 - Walk A Mile in Her Shoes
DESCRIPTION:Walk-A-Mile In Her Shoes \n\n\n\nHelp raise awareness about violence against women by walking a mile in downtown Fredericksburg wearing high heeled shoes. This is a family friendly event. men\, women and children are encouraged to walk.\n\n\n\nThe walk brings awareness to the seriousness of domestic violence and raises money for Empowerhouse. Walkers and spectators will meet at the commuter lot in downtown Fredericksburg for an opening ceremony. \n\n\n\nImmediately following the opening ceremony\, walkers will Walk a Mile in Her Shoes\, literally! Men will slip into a pair of red high heels to show their support for the cause!\n\n\n\nWalkers and spectators will walk to the Inn at the Olde Silk Mill where there will be live music\, guest speakers\, a 50/50 raffle\, and food & drinks!\n\n\n\nDon't let the high heels stop you from being part of this wonderful event! If the shoes will stop you from walking -- wear your sneakers (hopefully they are red!).
X-ALT-DESC;FMTTYPE=text/html:<span style="color:gray\;"><span style="font-family:arial\,sans-serif\;"><span style="font-size:12.0pt\;"><span style="font-size:18px\;">Walk-A-Mile In Her Shoes&nbsp\;</span><br />\n<br />\n<span style="font-size:14px\;">Help raise awareness about violence against women by walking a mile in downtown Fredericksburg wearing high heeled shoes. This is a family friendly event. men\, women and children are encouraged to walk.</span></span></span></span><br />\n<br />\nThe walk brings awareness to the seriousness of domestic violence and raises money for Empowerhouse. Walkers and spectators will meet at the commuter lot in downtown Fredericksburg for an opening ceremony.&nbsp\;<br />\n<br />\nImmediately following the opening ceremony\, walkers will Walk a Mile in Her Shoes\, <strong>literally</strong>! Men will slip into a pair of red high heels to show their support for the cause!<br />\n<br />\nWalkers and spectators will walk to the Inn at the Olde Silk Mill where there will be live music\, guest speakers\, a 50/50 raffle\, and food &amp\; drinks!<br />\n<br />\nDon&#39\;t let the high heels stop you from being part of this wonderful event! If the shoes will stop you from walking -- wear your sneakers (hopefully they are red!).
LOCATION:Downtown Fredericksburg
UID:e.9458.2504
SEQUENCE:3
DTSTAMP:20260423T173945Z
URL:http://fabava.memberzone.com/events/details/2018-walk-a-mile-in-her-shoes-2504
END:VEVENT

END:VCALENDAR
