BEGIN:VCALENDAR
VERSION:2.0
PRODID:-//ChamberMaster//Event Calendar 2.0//EN
METHOD:PUBLISH
X-PUBLISHED-TTL:P3D
REFRESH-INTERVAL:P3D
CALSCALE:GREGORIAN
BEGIN:VEVENT
DTSTART:20181031T123000Z
DTEND:20181031T140000Z
X-MICROSOFT-CDO-ALLDAYEVENT:FALSE
SUMMARY:2018 - Tax Cuts and Job Acts Munch and Learn
DESCRIPTION:FABA Member Education class\n\nTax Cuts and Job Acts Munch and Learn presented by Woodcock & Associates\, P.C. \n\n \n\nWhat are your tax planning opportunities under the Tax Cuts and Jobs Act? What do you need to know now? What can you do now to get the most benefit for your business from this monumental legislation?\n\n \n\nWoodcock & Associates\, PC presents a free 1 hour "Munch and Learn" to help you answer these questions.\n\n \n\nJoin us on October 31 at 8:30am at FABA for informal networking and continental breakfast.\n\nPresentation will run 9am - 10am.\n\nLimited space\, registration required!\n\n\n\n\n\nREGISTER TODAY!
X-ALT-DESC;FMTTYPE=text/html:FABA Member Education class<br />\nTax Cuts and Job Acts Munch and Learn&nbsp\;<em>presented by </em>Woodcock &amp\; Associates\, P.C.&nbsp\;<br />\n&nbsp\;<br />\n<span style="letter-spacing:.4pt\;"><span style="color:#666A73\;"><span style="font-family:helvetica\,sans-serif\;"><span style="font-size:11.5pt\;">What are your tax planning opportunities under the&nbsp\;<strong>Tax Cuts and Jobs Act</strong>? What do you need to know now? What can you do now to get the most benefit for your business from this monumental legislation?</span></span></span></span><br />\n&nbsp\;<br />\n<span style="letter-spacing:.4pt\;"><span style="color:#666A73\;"><span style="font-family:helvetica\,sans-serif\;"><span style="font-size:11.5pt\;"><a href="http://www.woodcockpc.com/" target="_blank" title="Woodcock &amp\; Associates\, PC website"><span style="color:#007F8C\;">Woodcock &amp\; Associates\, PC</span></a>&nbsp\;presents a&nbsp\;<strong>free 1 hour</strong>&nbsp\;&quot\;Munch and Learn&quot\; to help you answer these questions.</span></span></span></span><br />\n&nbsp\;<br />\n<span style="letter-spacing:.4pt\;"><span style="color:#666A73\;"><span style="font-family:helvetica\,sans-serif\;"><span style="font-size:11.5pt\;">Join us on&nbsp\;<strong>October 31 at 8:30am</strong>&nbsp\;at FABA for informal networking and continental breakfast.<br />\nPresentation will run 9am - 10am.</span></span></span></span><br />\n<span style="letter-spacing:.4pt\;"><span style="color:#666A73\;"><span style="font-family:helvetica\,sans-serif\;"><span style="font-size:11.5pt\;">Limited space\, registration required!</span></span></span></span><br />\n<br />\n<br />\n<span style="font-size:18px\;">REGISTER TODAY!&nbsp\;</span>
LOCATION:FABA Boardroom 3006 Lafayette Blvd Fredericksburg\, VA 22408
UID:e.9458.2669
SEQUENCE:3
DTSTAMP:20260423T160456Z
URL:http://fabava.memberzone.com/events/details/2018-tax-cuts-and-job-acts-munch-and-learn-2669
END:VEVENT

END:VCALENDAR
