BEGIN:VCALENDAR
VERSION:2.0
PRODID:-//ChamberMaster//Event Calendar 2.0//EN
METHOD:PUBLISH
X-PUBLISHED-TTL:P3D
REFRESH-INTERVAL:P3D
CALSCALE:GREGORIAN
BEGIN:VEVENT
DTSTART:20190812T130000Z
DTEND:20190812T140000Z
X-MICROSOFT-CDO-ALLDAYEVENT:FALSE
SUMMARY:Stafford Bi-monthly Meeting
DESCRIPTION:Take this opportunity to meet with planning and building officials to ask questions and get updates about issues that could impact the building industry
X-ALT-DESC;FMTTYPE=text/html:Take this opportunity to meet with planning and building officials to ask questions and get updates about issues that could impact the building industry
LOCATION:1300 Courthouse Rd Stafford\, VA 22554
UID:e.9458.2649
SEQUENCE:3
DTSTAMP:20260422T132731Z
URL:http://fabava.memberzone.com/events/details/2018-stafford-bi-monthly-meeting-08-12-2019-2649
END:VEVENT

END:VCALENDAR
