BEGIN:VCALENDAR
VERSION:2.0
PRODID:-//ChamberMaster//Event Calendar 2.0//EN
METHOD:PUBLISH
X-PUBLISHED-TTL:P3D
REFRESH-INTERVAL:P3D
CALSCALE:GREGORIAN
BEGIN:VEVENT
DTSTART:20180604T190000Z
DTEND:20180604T200000Z
X-MICROSOFT-CDO-ALLDAYEVENT:FALSE
SUMMARY:2018 - Spotsylvania Bi-monthly Meeting
DESCRIPTION:Take this opportunity to meet with planning and building officials to ask questions and get updates about issues that could impact the building industry
X-ALT-DESC;FMTTYPE=text/html:Take this opportunity to meet with planning and building officials to ask questions and get updates about issues that could impact the building industry
LOCATION:Spotsylvania Building Department 9019 Old Battlefield Blvd.\, Spotsylvania\, VA 22553 Third floor in the Economic Development conference room
UID:e.9458.2476
SEQUENCE:3
DTSTAMP:20260423T235717Z
URL:http://fabava.memberzone.com/events/details/2018-spotsylvania-bi-monthly-meeting-06-04-2018-2476
END:VEVENT

END:VCALENDAR
