BEGIN:VCALENDAR
VERSION:2.0
PRODID:-//ChamberMaster//Event Calendar 2.0//EN
METHOD:PUBLISH
X-PUBLISHED-TTL:P3D
REFRESH-INTERVAL:P3D
CALSCALE:GREGORIAN
BEGIN:VEVENT
DTSTART:20180607T140000Z
DTEND:20180607T200000Z
X-MICROSOFT-CDO-ALLDAYEVENT:FALSE
SUMMARY:2018 - OSHA Training Class (Part 2 of 2)
DESCRIPTION:Lunch will be provided. \n\n\n\nOSHA 10-HR Construction Industry Safety Course\n\npresented by David Barker of Builders Mutual Insurance Company\n\n\n\nDo you or your employees have the tools you need to work safely? The OSHA 10-hr course is designed to assist employees with recognition and avoidance of safety and health hazards on the job site. This is an entry level look at the OSHA standards as they apply to construction job sites. Who should attend? Company owners\, field employees and anyone who has a safety responsibility on the job site would benefit from this class. Learn from actual claims that have occurred   one misstep or unsafe behavior can affect you and your company. We will employ hands on discussions of real life situations that you may have experienced and the solutions to correct them. All participants must be able to pass the final test to earn a course completion card. By attending this class\, you'll be able to:\n\n\n\n  Recognize and avoid job site hazards and protect others from harm\n\n  Learn about what rights and responsibilities you have as an employee in regards to safety on the job site\n\n  Anticipate what to expect from an OSHA inspection\, including rights the employer has\n\n  Comply with OSHA standards for fall protection\,\n\nelectrical\, PPE\, and more\n\n  Save money by avoiding fines and costly insurance claims\n\n  Feel safer working on the jobsite\n\n  Earn a course completion card from Federal OSHA\n\n\n\n**must attend both part 1 and 2 to receive credit for the course**
X-ALT-DESC;FMTTYPE=text/html:<span style="color: rgb(29\, 33\, 41)\; font-family: Helvetica\, Arial\, sans-serif\; font-size: 14px\;">Lunch will be provided.&nbsp\;<br />\n<br />\nOSHA 10-HR Construction Industry Safety Course</span><br style="color: rgb(29\, 33\, 41)\; font-family: Helvetica\, Arial\, sans-serif\; font-size: 14px\;" />\n<span style="color: rgb(29\, 33\, 41)\; font-family: Helvetica\, Arial\, sans-serif\; font-size: 14px\;">presented by David Barker of Builders Mutual Insurance Company</span><br style="color: rgb(29\, 33\, 41)\; font-family: Helvetica\, Arial\, sans-serif\; font-size: 14px\;" />\n<br style="color: rgb(29\, 33\, 41)\; font-family: Helvetica\, Arial\, sans-serif\; font-size: 14px\;" />\n<span style="color: rgb(29\, 33\, 41)\; font-family: Helvetica\, Arial\, sans-serif\; font-size: 14px\;">Do you or your employees have the tools you need to work safely? The OSHA 10-hr course is designed to assist employees with recognition and avoidance of safety and health hazards on the job site. This is an entry level look at the OSHA standards as they apply to construction job sites. Who should attend? Company owners\, field employees and anyone who has a safety responsibility on the job site would benefit from this class. Learn from actual claims that have occurred &ndash\; one misstep or unsafe behavior can affect you and your company. We will employ hands on discussions of real life situations that you may have experienced and the solutions to correct them. All participants must be able to pass the final test to earn a course completion card. By attending this class\, you&rsquo\;ll be able to:</span><br style="color: rgb(29\, 33\, 41)\; font-family: Helvetica\, Arial\, sans-serif\; font-size: 14px\;" />\n<br style="color: rgb(29\, 33\, 41)\; font-family: Helvetica\, Arial\, sans-serif\; font-size: 14px\;" />\n<span style="color: rgb(29\, 33\, 41)\; font-family: Helvetica\, Arial\, sans-serif\; font-size: 14px\;">&bull\; Recognize and avoid job site hazards and protect others from harm</span><br style="color: rgb(29\, 33\, 41)\; font-family: Helvetica\, Arial\, sans-serif\; font-size: 14px\;" />\n<span style="color: rgb(29\, 33\, 41)\; font-family: Helvetica\, Arial\, sans-serif\; font-size: 14px\;">&bull\; Learn about what rights and responsibilities you have as an employee in regards to safety on the job site</span><br style="color: rgb(29\, 33\, 41)\; font-family: Helvetica\, Arial\, sans-serif\; font-size: 14px\;" />\n<span style="color: rgb(29\, 33\, 41)\; font-family: Helvetica\, Arial\, sans-serif\; font-size: 14px\;">&bull\; Anticipate what to expect from an OSHA inspection\, including rights the employer has</span><br style="color: rgb(29\, 33\, 41)\; font-family: Helvetica\, Arial\, sans-serif\; font-size: 14px\;" />\n<span style="color: rgb(29\, 33\, 41)\; font-family: Helvetica\, Arial\, sans-serif\; font-size: 14px\;">&bull\; Comply with OSHA standards for fall protection\,</span><br style="color: rgb(29\, 33\, 41)\; font-family: Helvetica\, Arial\, sans-serif\; font-size: 14px\;" />\n<span style="color: rgb(29\, 33\, 41)\; font-family: Helvetica\, Arial\, sans-serif\; font-size: 14px\;">electrical\, PPE\, and more</span><br style="color: rgb(29\, 33\, 41)\; font-family: Helvetica\, Arial\, sans-serif\; font-size: 14px\;" />\n<span style="color: rgb(29\, 33\, 41)\; font-family: Helvetica\, Arial\, sans-serif\; font-size: 14px\;">&bull\; Save money by avoiding fines and costly insurance claims</span><br style="color: rgb(29\, 33\, 41)\; font-family: Helvetica\, Arial\, sans-serif\; font-size: 14px\;" />\n<span style="color: rgb(29\, 33\, 41)\; font-family: Helvetica\, Arial\, sans-serif\; font-size: 14px\;">&bull\; Feel safer working on the jobsite</span><br style="color: rgb(29\, 33\, 41)\; font-family: Helvetica\, Arial\, sans-serif\; font-size: 14px\;" />\n<span style="color: rgb(29\, 33\, 41)\; font-family: Helvetica\, Arial\, sans-serif\; font-size: 14px\;">&bull\; Earn a course completion card from Federal OSHA</span><br style="color: rgb(29\, 33\, 41)\; font-family: Helvetica\, Arial\, sans-serif\; font-size: 14px\;" />\n<br style="color: rgb(29\, 33\, 41)\; font-family: Helvetica\, Arial\, sans-serif\; font-size: 14px\;" />\n<span style="color: rgb(29\, 33\, 41)\; font-family: Helvetica\, Arial\, sans-serif\; font-size: 14px\;">**must attend both part 1 and 2 to receive credit for the course**&nbsp\;</span>
LOCATION:Fredericksburg Center for Advanced Technology Germanna Community College Central Park location 1325 Central Park Blvd Fredericksburg\, VA 22401
UID:e.9458.2478
SEQUENCE:3
DTSTAMP:20260423T235705Z
URL:http://fabava.memberzone.com/events/details/2018-osha-training-class-part-2-of-2-2478
END:VEVENT

END:VCALENDAR
