BEGIN:VCALENDAR
VERSION:2.0
PRODID:-//ChamberMaster//Event Calendar 2.0//EN
METHOD:PUBLISH
X-PUBLISHED-TTL:P3D
REFRESH-INTERVAL:P3D
CALSCALE:GREGORIAN
BEGIN:VEVENT
DTSTART:20180608T140000Z
DTEND:20180608T150000Z
X-MICROSOFT-CDO-ALLDAYEVENT:FALSE
SUMMARY:2018 - King George County Quarterly Meeting
DESCRIPTION:Join us and hear more about all things legislative in KIng George county - local ordinances\, political happenings\, elections\, etc. - all members are welcome!
X-ALT-DESC;FMTTYPE=text/html:<span style="font-family: calibri\, sans-serif\; font-size: 14.6667px\;">Join us and hear more about all things legislative in </span><span style="font-family: calibri\, sans-serif\; font-size: 14.6667px\;">K</span>Ing George&nbsp\;<span style="font-family: calibri\, sans-serif\; font-size: 14.6667px\;">county</span><span style="font-family: calibri\, sans-serif\; font-size: 14.6667px\;"> - local ordinances\, political happenings\, elections\, etc. - all members are welcome!</span>
LOCATION:King George County Community Development Office 10459 Courthouse Drive Suite 104 King George\, VA 22485
UID:e.9458.2458
SEQUENCE:3
DTSTAMP:20260423T235718Z
URL:http://fabava.memberzone.com/events/details/2018-king-george-county-quarterly-meeting-06-08-2018-2458
END:VEVENT

END:VCALENDAR
