BEGIN:VCALENDAR
VERSION:2.0
PRODID:-//ChamberMaster//Event Calendar 2.0//EN
METHOD:PUBLISH
X-PUBLISHED-TTL:P3D
REFRESH-INTERVAL:P3D
CALSCALE:GREGORIAN
BEGIN:VEVENT
DTSTART:20180620T153000Z
DTEND:20180620T170000Z
X-MICROSOFT-CDO-ALLDAYEVENT:FALSE
SUMMARY:2018 - High Performing Teams
DESCRIPTION:Lunch will be provided. Please RSVP by Noon on 6/19!\n\n\n\nIn this workshop we discuss and explore High Performing Teams. We review the definition\, and key components\, of organizations that consistently perform at a high level. If you have a team\, or you are building a team\, this would be a great session to participate in. Businesses and organizations that work together\, communicate effectively\, and leverage each other's strengths are more successful. Bring your leadership team to this event!\n\n\n\nPresented by Mike Williams : The Growth Coach
X-ALT-DESC;FMTTYPE=text/html:<span style="font-family:calibri\,sans-serif\;"><span style="font-size:12.0pt\;">Lunch will be provided. Please RSVP by Noon on 6/19!<br />\n<br />\nIn this workshop we discuss and explore <strong>High Performing Teams</strong>. We review the definition\, and key components\, of organizations that consistently perform at a high level. If you have a team\, or you are building a team\, this would be a great session to participate in. Businesses and organizations that work together\, communicate effectively\, and leverage each other&rsquo\;s strengths are more successful. Bring your leadership team to this event!</span></span><br />\n<br />\n<span style="color: rgb(29\, 33\, 41)\; font-family: Helvetica\, Arial\, sans-serif\; font-size: 12px\; white-space: pre-wrap\;">Presented by Mike Williams : The Growth Coach</span>
LOCATION:FABA Boardroom 3006 Lafayette Blvd Fredericksburg\, VA 22408
UID:e.9458.2472
SEQUENCE:3
DTSTAMP:20260423T235523Z
URL:http://fabava.memberzone.com/events/details/2018-high-performing-teams-2472
END:VEVENT

END:VCALENDAR
