BEGIN:VCALENDAR
VERSION:2.0
PRODID:-//ChamberMaster//Event Calendar 2.0//EN
METHOD:PUBLISH
X-PUBLISHED-TTL:P3D
REFRESH-INTERVAL:P3D
CALSCALE:GREGORIAN
BEGIN:VEVENT
DTSTART:20180315T210000Z
DTEND:20180315T230000Z
X-MICROSOFT-CDO-ALLDAYEVENT:FALSE
SUMMARY:2018 - Hard Hat Networking-Splitsville
DESCRIPTION:Join us for FABA's monthly Hard Hat happy hour networking social.\n\nHard Hat Networking is about building strong relationships and helping one another grow our businesses.\n\nIf you are a member of FABA or interested in becoming a member\, Hard Hat is a great way to get to know the people in your industry circle and build lasting\, loyal business relationships. For more information about FABA\, please feel free to contact us at (540) 898-2630.
X-ALT-DESC;FMTTYPE=text/html:<p style="margin: 0px 0px 6px\; font-family: Helvetica\, Arial\, sans-serif\; color: rgb(29\, 33\, 41)\; font-size: 14px\;"><span style="font-size:12px\;"><span style="font-family: arial\;">Join us for FABA&#39\;s monthly Hard Hat happy hour networking social.<br />\nHard Hat Networking is about building strong relationships and helping one another grow our businesses.</span></span></p>\n\n<p style="margin: 6px 0px 0px\; display: inline\; font-family: Helvetica\, Arial\, sans-serif\; color: rgb(29\, 33\, 41)\; font-size: 14px\;"><span style="font-size:12px\;"><span style="font-family: arial\;">If you are a member of FABA or interested in becoming a member\, Hard Hat is a great way to get to know the people in your industry circle and build lasting\, loyal business relationships. For more information about FABA\, please feel free to contact us at (540) 898-2630.</span></span></p>\n\n<p style="margin: 6px 0px 0px\; display: inline\; font-family: Helvetica\, Arial\, sans-serif\; color: rgb(29\, 33\, 41)\; font-size: 14px\;">&nbsp\;</p>\n
LOCATION:Splitsville 51 Towne Centre Boulevard Fredericksburg\, VA 22407 (located next to the movie theater behind the Spotsylvania Mall)
UID:e.9458.1211
SEQUENCE:3
DTSTAMP:20260424T055011Z
URL:http://fabava.memberzone.com/events/details/2018-hard-hat-networking-splitsville-03-15-2018-1211
END:VEVENT

END:VCALENDAR
