BEGIN:VCALENDAR
VERSION:2.0
PRODID:-//ChamberMaster//Event Calendar 2.0//EN
METHOD:PUBLISH
X-PUBLISHED-TTL:P3D
REFRESH-INTERVAL:P3D
CALSCALE:GREGORIAN
BEGIN:VEVENT
DTSTART;VALUE=DATE:20180102
DTEND;VALUE=DATE:20180103
TRANSP:TRANSPARENT
X-MICROSOFT-CDO-ALLDAYEVENT:TRUE
SUMMARY:2018 - FABA Open!
DESCRIPTION:Welcome back everyone!
X-ALT-DESC;FMTTYPE=text/html:Welcome back everyone!
LOCATION:
UID:e.9458.1204
SEQUENCE:3
DTSTAMP:20260424T070815Z
URL:http://fabava.memberzone.com/events/details/2018-faba-open-1204
END:VEVENT

END:VCALENDAR
