BEGIN:VCALENDAR
VERSION:2.0
PRODID:-//ChamberMaster//Event Calendar 2.0//EN
METHOD:PUBLISH
X-PUBLISHED-TTL:P3D
REFRESH-INTERVAL:P3D
CALSCALE:GREGORIAN
BEGIN:VEVENT
DTSTART:20180519T130000Z
DTEND:20180519T190000Z
X-MICROSOFT-CDO-ALLDAYEVENT:FALSE
SUMMARY:2018 - Community Service Day
DESCRIPTION:Announcing FAAR's Community Service Day! \n																					Let's building something together!\n\n																					\n\n																					Saturday\, May 19\, 2018\n\n																					9:00am-3:00pm\n\n																					2 shifts\, both include lunch!\n																				\n																			\n																		\n																		\n																	\n																\n															\n															\n														\n													\n												\n												\n											\n											\n												\n												\n													\n														\n															\n															\n																\n																	\n																		\n																		\n																			\n																				\n																					 \n																				\n																			\n																		\n																		\n																	\n																\n															\n															\n														\n													\n												\n												\n											\n											\n												\n												\n													\n														\n															\n															\n																\n																	\n																		\n																		\n																			\n																				\n																					SIGN UP HERE\n																				\n																			\n																		\n																		\n																	\n																\n															\n															\n														\n													\n												\n												\n											\n											\n												\n												\n													\n														\n															\n															\n																\n																	\n																		\n																		\n																			\n																				\n																					 \n																				\n																			\n																		\n																		\n																	\n																\n															\n															\n														\n													\n												\n												\n											\n											\n												\n												\n													\n														\n															\n															\n																\n																	\n																		\n																		\n																			\n																				\n																					 \n																				\n																			\n																		\n																		\n																	\n																\n															\n															\n														\n													\n												\n												\n											\n											\n												\n												\n													\n														\n															\n															\n																\n																	\n																		\n																		\n																			\n																				\n																					"We make a living by what we get\, but we make a life by what we give." -Winston Churchill\n\n																					\n\n																					Looking for a way to give back in the community?  FAAR is partnering with FABA and the 516 Project on an ambitious community service project that aims to deploy 5 teams of Realtors \, affiliates\, and builders in each of the jurisdictions that FAAR serves to make a lasting difference in a needy homeowner's life. \n\n																					\n\n																					The 516 Project will help screen applicants and coordinate logistics at build sites\, they have that down to a science.  We will provide the hard work and good cheer that we're known for\, all while giving a hand up to a neighbor in need.  FAAR will provide lunch\, water\, and all instruction on the job site.\n\n																					\n\n																					So gather your friends\, neighbors\, and colleagues!  Teams are welcome and the day is split into shifts.  Sign up for one shift or do the whole day\, whatever works for you.  All participants must be 16 years or older.
X-ALT-DESC;FMTTYPE=text/html:<table border="0" cellpadding="0" cellspacing="0" style="width:100.0%\;border-collapse:collapse\;" width="100%">\n	<tbody>\n		<tr>\n			<td style="width:100.0%\;padding:0in 0in 0in 0in\;vertical-align:top\;">\n			<table border="0" cellpadding="0" cellspacing="0" style="width:600px\;background:white\;border-collapse:collapse\;" width="600">\n				<tbody>\n					<tr>\n						<td style="width:100.0%\;padding:0in 0in 0in 0in\;vertical-align:top\;">\n						<table border="0" cellpadding="0" cellspacing="0" style="width:100.0%\;border-collapse:collapse\;" width="100%">\n							<tbody>\n								<tr>\n									<td style="width:100.0%\;padding:0in 0in 0in 0in\;vertical-align:top\;">\n									<table border="0" cellpadding="0" cellspacing="0" style="width:100.0%\;border-collapse:collapse\;" width="100%">\n										<tbody>\n											<tr>\n												<td style="width:100.0%\;padding:0in 0in 0in 0in\;vertical-align:top\;">\n												<table border="0" cellpadding="0" cellspacing="0" style="width:100.0%\;border-collapse:collapse\;" width="100%">\n													<tbody>\n														<tr>\n															<td style="width:100.0%\;padding:0in 0in 0in 0in\;vertical-align:top\;">\n															<table border="0" cellpadding="0" cellspacing="0" style="width:100.0%\;border-collapse:collapse\;" width="100%">\n																<tbody>\n																	<tr>\n																		<td style="width:100.0%\;padding:0in 0in 0in 0in\;vertical-align:top\;">\n																		<table border="0" cellpadding="0" cellspacing="0" style="width:100.0%\;border-collapse:collapse\;" width="100%">\n																			<tbody>\n																				<tr>\n																					<td style="width:100.0%\;padding:6.75pt 13.5pt 6.75pt 13.5pt\;vertical-align:top\;">\n																					<h1 align="center" style="margin-top:8.05pt\;text-align:center\;"><strong><span style="background:#3498DB\;"><span style="color:white\;"><span style="font-family:arial\,sans-serif\;"><span style="font-size:18.0pt\;">Announcing FAAR&#39\;s Community Service Day!&nbsp\;</span></span></span></span></strong></h1>\n																					<span style="color:#505050\;"><span style="font-family:arial\,sans-serif\;"><span style="font-size:13.5pt\;">Let&#39\;s building something together!<br />\n																					<br />\n																					Saturday\, May 19\, 2018<br />\n																					9:00am-3:00pm<br />\n																					2 shifts\, both include lunch!</span></span></span></td>\n																				</tr>\n																			</tbody>\n																		</table>\n																		</td>\n																	</tr>\n																</tbody>\n															</table>\n															</td>\n														</tr>\n													</tbody>\n												</table>\n												</td>\n											</tr>\n											<tr>\n												<td style="width:100.0%\;padding:0in 0in 0in 0in\;vertical-align:top\;">\n												<table border="0" cellpadding="0" cellspacing="0" style="width:100.0%\;border-collapse:collapse\;" width="100%">\n													<tbody>\n														<tr>\n															<td style="width:100.0%\;padding:0in 0in 0in 0in\;vertical-align:top\;">\n															<table border="0" cellpadding="0" cellspacing="0" style="width:100.0%\;border-collapse:collapse\;" width="100%">\n																<tbody>\n																	<tr>\n																		<td style="width:100.0%\;padding:13.5pt 13.5pt 13.5pt 13.5pt\;vertical-align:top\;">\n																		<table border="0" cellpadding="0" cellspacing="0" style="width:100.0%\;border-collapse:collapse\;" width="100%">\n																			<tbody>\n																				<tr style="height:2px\;">\n																					<td style="width:100.0%\;border:none\;border-top:solid #999999 1.0pt\;padding:0in 0in 0in 0in\;height:2px\;vertical-align:top\;">&nbsp\;</td>\n																				</tr>\n																			</tbody>\n																		</table>\n																		</td>\n																	</tr>\n																</tbody>\n															</table>\n															</td>\n														</tr>\n													</tbody>\n												</table>\n												</td>\n											</tr>\n											<tr>\n												<td style="width:100.0%\;padding:0in 0in 0in 0in\;vertical-align:top\;">\n												<table border="0" cellpadding="0" cellspacing="0" style="width:100.0%\;border-collapse:collapse\;" width="100%">\n													<tbody>\n														<tr>\n															<td style="width:100.0%\;padding:0in 0in 0in 0in\;vertical-align:top\;">\n															<table border="0" cellpadding="0" cellspacing="0" style="width:100.0%\;border-collapse:collapse\;" width="100%">\n																<tbody>\n																	<tr>\n																		<td style="width:100.0%\;padding:0in 0in 0in 0in\;vertical-align:top\;">\n																		<table border="0" cellpadding="0" cellspacing="0" style="width:100.0%\;border-collapse:collapse\;" width="100%">\n																			<tbody>\n																				<tr>\n																					<td style="width:100.0%\;padding:6.75pt 13.5pt 6.75pt 13.5pt\;vertical-align:top\;"><span style="color:#505050\;"><span style="font-family:arial\,sans-serif\;"><span style="font-size:8.5pt\;"><a href="http://link.faarmembers.com/c/4/?T=ODE4NDE1NDA%3AMDItYjE4MDgwLTk3NzBlMzNkOWViMTQ4MDI5YzI0YjYyMTU2NzI5N2Qw%3AbW1vb3JlQGZhYmF2YS5jb20%3AY29udGFjdC1lOTA4MTdkMWUwMzA0YWFlOWZmYTAyNjkwMDRhNmVhYy01ZDE4MWQ2NzM1NzI0OThkOWZjZDY4YzQxOTIzYWI2OA%3AZmFsc2U%3AMA%3A%3AaHR0cDovL2JpdC5seS8ycGRnTExDP19jbGRlZT1iVzF2YjNKbFFHWmhZbUYyWVM1amIyMCUzZCZyZWNpcGllbnRpZD1jb250YWN0LWU5MDgxN2QxZTAzMDRhYWU5ZmZhMDI2OTAwNGE2ZWFjLTVkMTgxZDY3MzU3MjQ5OGQ5ZmNkNjhjNDE5MjNhYjY4JmVzaWQ9YTEzOTVhM2YtN2UyYy1lODExLTljMjUtMDAxNTVkMTAxMjA5&amp\;K=vNty0G51HEbe-FufJmKbwA"><strong><span style="color:#3498DB\;"><span style="font-family:arial\,sans-serif\;"><span style="font-size:21.0pt\;">SIGN UP HERE</span></span></span></strong></a></span></span></span></td>\n																				</tr>\n																			</tbody>\n																		</table>\n																		</td>\n																	</tr>\n																</tbody>\n															</table>\n															</td>\n														</tr>\n													</tbody>\n												</table>\n												</td>\n											</tr>\n											<tr>\n												<td style="width:100.0%\;padding:0in 0in 0in 0in\;vertical-align:top\;">\n												<table border="0" cellpadding="0" cellspacing="0" style="width:100.0%\;border-collapse:collapse\;" width="100%">\n													<tbody>\n														<tr>\n															<td style="width:100.0%\;padding:0in 0in 0in 0in\;vertical-align:top\;">\n															<table border="0" cellpadding="0" cellspacing="0" style="width:100.0%\;border-collapse:collapse\;" width="100%">\n																<tbody>\n																	<tr>\n																		<td style="width:100.0%\;padding:13.5pt 13.5pt 13.5pt 13.5pt\;vertical-align:top\;">\n																		<table border="0" cellpadding="0" cellspacing="0" style="width:100.0%\;border-collapse:collapse\;" width="100%">\n																			<tbody>\n																				<tr style="height:2px\;">\n																					<td style="width:100.0%\;border:none\;border-top:solid #999999 1.0pt\;padding:0in 0in 0in 0in\;height:2px\;vertical-align:top\;">&nbsp\;</td>\n																				</tr>\n																			</tbody>\n																		</table>\n																		</td>\n																	</tr>\n																</tbody>\n															</table>\n															</td>\n														</tr>\n													</tbody>\n												</table>\n												</td>\n											</tr>\n											<tr>\n												<td style="width:100.0%\;padding:0in 0in 0in 0in\;vertical-align:top\;">\n												<table border="0" cellpadding="0" cellspacing="0" style="width:100.0%\;border-collapse:collapse\;" width="100%">\n													<tbody>\n														<tr>\n															<td style="width:100.0%\;padding:0in 0in 0in 0in\;vertical-align:top\;">\n															<table border="0" cellpadding="0" cellspacing="0" style="width:100.0%\;border-collapse:collapse\;" width="100%">\n																<tbody>\n																	<tr>\n																		<td style="width:100.0%\;padding:0in 0in 0in 0in\;vertical-align:top\;">\n																		<table border="0" cellpadding="0" cellspacing="0" style="width:100.0%\;border-collapse:collapse\;" width="100%">\n																			<tbody>\n																				<tr>\n																					<td style="width:100.0%\;padding:6.75pt 13.5pt 6.75pt 13.5pt\;vertical-align:top\;">&nbsp\;</td>\n																				</tr>\n																			</tbody>\n																		</table>\n																		</td>\n																	</tr>\n																</tbody>\n															</table>\n															</td>\n														</tr>\n													</tbody>\n												</table>\n												</td>\n											</tr>\n											<tr>\n												<td style="width:100.0%\;padding:0in 0in 0in 0in\;vertical-align:top\;">\n												<table border="0" cellpadding="0" cellspacing="0" style="width:100.0%\;border-collapse:collapse\;" width="100%">\n													<tbody>\n														<tr>\n															<td style="width:100.0%\;padding:0in 0in 0in 0in\;vertical-align:top\;">\n															<table border="0" cellpadding="0" cellspacing="0" style="width:100.0%\;border-collapse:collapse\;" width="100%">\n																<tbody>\n																	<tr>\n																		<td style="width:100.0%\;padding:0in 0in 0in 0in\;vertical-align:top\;">\n																		<table border="0" cellpadding="0" cellspacing="0" style="width:100.0%\;border-collapse:collapse\;" width="100%">\n																			<tbody>\n																				<tr>\n																					<td style="width:100.0%\;padding:6.75pt 13.5pt 6.75pt 13.5pt\;vertical-align:top\;"><span style="color:#505050\;"><span style="font-family:comic sans ms\;"><span style="font-size:15.0pt\;">&quot\;We make a living by what we get\, but we make a life by what we give.&quot\; -Winston Churchill</span></span></span><br />\n																					<br />\n																					<span style="color:#505050\;"><span style="font-family:arial\,sans-serif\;"><span style="font-size:10.5pt\;">Looking for a way to give back in the community?&nbsp\; FAAR is partnering with FABA and the 516 Project on an ambitious community service project that aims to deploy 5 teams of Realtors&reg\;\, affiliates\, and builders in each of the jurisdictions that FAAR serves to make a lasting difference in a needy homeowner&#39\;s life.&nbsp\;<br />\n																					<br />\n																					The 516 Project will help screen applicants and coordinate logistics at build sites\, they have that down to a science.&nbsp\; We will provide the hard work and good cheer that we&#39\;re known for\, all while giving a hand up to a neighbor in need.&nbsp\; FAAR will provide lunch\, water\, and all instruction on the job site.<br />\n																					<br />\n																					So gather your friends\, neighbors\, and colleagues!&nbsp\; Teams are welcome and the day is split into shifts.&nbsp\; Sign up for one shift or do the whole day\, whatever works for you.&nbsp\; <strong><span style="font-family:arial\,sans-serif\;">All participants must be 16 years or older.</span></strong>&nbsp\; </span></span></span></td>\n																				</tr>\n																			</tbody>\n																		</table>\n																		</td>\n																	</tr>\n																</tbody>\n															</table>\n															</td>\n														</tr>\n													</tbody>\n												</table>\n												</td>\n											</tr>\n										</tbody>\n									</table>\n									</td>\n								</tr>\n							</tbody>\n						</table>\n						</td>\n					</tr>\n				</tbody>\n			</table>\n			</td>\n		</tr>\n	</tbody>\n</table>\n
LOCATION:
UID:e.9458.2457
SEQUENCE:3
DTSTAMP:20260424T012406Z
URL:http://fabava.memberzone.com/events/details/2018-community-service-day-2457
END:VEVENT

END:VCALENDAR
