BEGIN:VCALENDAR
VERSION:2.0
PRODID:-//ChamberMaster//Event Calendar 2.0//EN
METHOD:PUBLISH
X-PUBLISHED-TTL:P3D
REFRESH-INTERVAL:P3D
CALSCALE:GREGORIAN
BEGIN:VEVENT
DTSTART:20180221T133000Z
DTEND:20180221T143000Z
X-MICROSOFT-CDO-ALLDAYEVENT:FALSE
SUMMARY:2018 - Business Marketing Tips #1 ! (SMC Education)
DESCRIPTION:Marketing Tips Workshop #1:  Marketing Planning \n\nThis week's Marketing Planning session will focus on the definition of Marketing and explore the difference in Marketing versus Selling. We will discuss the development of a marketing plan which would include a Marketing Calendar\, Marketing Budget and Marketing Activities. If you are looking to build a good plan for marketing your business\, this is the right workshop for you.\n\n \nAll FABA Members are invited to this educational opportunity to learn more about growing your business with Marketing tips provided by Mike Williams (The Growth Coach of Northern Virginia). Presented by FABA SMC.
X-ALT-DESC;FMTTYPE=text/html:<div style="color: rgb(33\, 33\, 33)\; font-family: wf_segoe-ui_normal\, &quot\;Segoe UI&quot\;\, &quot\;Segoe WP&quot\;\, Tahoma\, Arial\, sans-serif\, serif\, EmojiFont\; font-size: medium\; margin: 0px\;"><font face="Calibri\,sans-serif" size="2"><span style="font-size: 11pt\;">Marketing Tips Workshop #1:&nbsp\;&nbsp\;<b>Marketing Planning</b>&nbsp\;</span></font></div>\n\n<div style="color: rgb(33\, 33\, 33)\; font-family: wf_segoe-ui_normal\, &quot\;Segoe UI&quot\;\, &quot\;Segoe WP&quot\;\, Tahoma\, Arial\, sans-serif\, serif\, EmojiFont\; font-size: medium\; margin: 0px\;"><font face="Calibri\,sans-serif" size="2"><span style="font-size: 11pt\;">This week&#39\;s&nbsp\;<strong>Marketing Planning</strong> session will focus on the definition of Marketing and explore the difference in Marketing versus Selling. We will discuss the development of a marketing plan which would include a Marketing Calendar\, Marketing Budget and Marketing Activities. If you are looking to build a good plan for marketing your business\, this is the right workshop for you.</span></font><br />\n&nbsp\;</div>\nAll FABA Members are invited to this educational opportunity to learn more about growing your business with Marketing tips provided by Mike Williams (The Growth Coach of Northern Virginia). Presented by FABA&nbsp\;SMC.
LOCATION:FABA Boardroom 3006 Lafayette Blvd Fredericksburg\, VA 22408
UID:e.9458.1439
SEQUENCE:3
DTSTAMP:20260424T071014Z
URL:http://fabava.memberzone.com/events/details/2018-business-marketing-tips-1-smc-education-1439
END:VEVENT

END:VCALENDAR
