BEGIN:VCALENDAR
VERSION:2.0
PRODID:-//ChamberMaster//Event Calendar 2.0//EN
METHOD:PUBLISH
X-PUBLISHED-TTL:P3D
REFRESH-INTERVAL:P3D
CALSCALE:GREGORIAN
BEGIN:VEVENT
DTSTART:20170719T180000Z
DTEND:20170719T190000Z
X-MICROSOFT-CDO-ALLDAYEVENT:FALSE
SUMMARY:2017 - Stop Being Social and Start Selling!
DESCRIPTION:2017 International Builders' Show  (IBS) speaker\, marketing expert and author Kevin Oakley will show you how Facebook can be a useful tool in growing walk-in and online traffic\, appointments and sales!\n\n			This webinar is part of our Best of IBS series\, which features new topics from some of the most popular speakers at IBS.\n\n			 \n\n			Description\n			\n				Go beyond being social with your social networks. Learn how to drive real\, measurable results on Facebook: increased walk-in and online traffic\, appointments and sales! To get real results\, you need to go way beyond simply hitting the "boost" button. International Builders' Show  speaker\, marketing expert and author Kevin Oakley will give you step-by-step instructions on how to get the outcomes you desire.\n			\n			Participants in this webinar will:\n\n			\n				     Examine how to develop a simple yet thorough paid Facebook strategy that drives quality traffic.\n				     Explore the different ad types that Facebook offers\, and which work best in different situations.\n				     Gain an understanding of what your ads must include to be effective.\n				    Describe how to integrate your paid and organic social efforts to complement each other. \n			\n			\n		\n	\n\n\n \nSpeaker(s): Kevin Oakley\, Do You Convert
X-ALT-DESC;FMTTYPE=text/html:<table align="left" cellpadding="0" cellspacing="0" hspace="0" vspace="0">\n	<tbody>\n		<tr>\n			<td align="left" style="padding-top:0in\;padding-right:8.55pt\;padding-bottom:0in\;padding-left:8.55pt\;vertical-align:top\;"><span style="color:black\;"><span style="font-family:calibri\,sans-serif\;"><span style="font-size:10.5pt\;">2017 International Builders&#39\; Show&reg\; (IBS) speaker\, marketing expert and author Kevin Oakley will show you how Facebook can be a useful tool in growing walk-in and online traffic\, appointments and sales!</span></span></span><br />\n			<span style="color:black\;"><span style="font-family:calibri\,sans-serif\;"><span style="font-size:10.5pt\;">This webinar is part of our Best of IBS series\, which features new topics from some of the most popular speakers at IBS.</span></span></span><br />\n			&nbsp\;<br />\n			<span style="font-family:arial\,sans-serif\;"><span style="font-size:10.0pt\;">Description</span></span>\n			<ul>\n				<li style="margin-top:0in\;margin-right:0in\;margin-bottom:6.75pt\;"><span style="color:#001836\;"><span style="font-family:source_sans_proregular\;"><span style="font-size:10.5pt\;">Go beyond being social with your social networks. Learn how to drive real\, measurable results on Facebook: increased walk-in and online traffic\, appointments and sales! To get real results\, you need to go way beyond simply hitting the &ldquo\;boost&rdquo\; button. International Builders&rsquo\; Show</span></span></span><sup><span style="color:#001836\;"><span style="font-family:source_sans_proregular\;"><span style="font-size:8.0pt\;">&reg\;</span></span></span></sup><span style="color:#001836\;"><span style="font-family:source_sans_proregular\;"><span style="font-size:10.5pt\;"> speaker\, marketing expert and author Kevin Oakley will give you step-by-step instructions on how to get the outcomes you desire.</span></span></span></li>\n			</ul>\n			<span style="color:#001836\;"><span style="font-family:source_sans_proregular\;"><span style="font-size:10.5pt\;">Participants in this webinar will:</span></span></span>\n\n			<ul>\n				<li><span style="color:#001836\;"><span style="font-family:source_sans_proregular\;"><span style="font-size:10.5pt\;">&nbsp\;&nbsp\;&nbsp\;&nbsp\; Examine how to develop a simple yet thorough paid Facebook strategy that drives quality traffic.</span></span></span></li>\n				<li><span style="color:#001836\;"><span style="font-family:source_sans_proregular\;"><span style="font-size:10.5pt\;">&nbsp\;&nbsp\;&nbsp\;&nbsp\; Explore the different ad types that Facebook offers\, and which work best in different situations.</span></span></span></li>\n				<li><span style="color:#001836\;"><span style="font-family:source_sans_proregular\;"><span style="font-size:10.5pt\;">&nbsp\;&nbsp\;&nbsp\;&nbsp\; Gain an understanding of what your ads must include to be effective.</span></span></span></li>\n				<li><span style="color:#001836\;"><span style="font-family:source_sans_proregular\;"><span style="font-size:10.5pt\;">&nbsp\;&nbsp\;&nbsp\; Describe how to integrate your paid and organic social efforts to complement each other. </span></span></span></li>\n			</ul>\n			</td>\n		</tr>\n	</tbody>\n</table>\n\n<div style="clear:both\;">&nbsp\;</div>\n<strong><span style="color:#001836\;"><span style="font-family:source_sans_prosemibold\;"><span style="font-size:10.5pt\;">Speaker(s):</span></span></span></strong><span style="color:#001836\;"><span style="font-family:source_sans_proregular\;"><span style="font-size:10.5pt\;"> Kevin Oakley\, Do You Convert </span></span></span>
LOCATION:FABA Boardroom
UID:e.9458.700
SEQUENCE:3
DTSTAMP:20260425T004154Z
URL:http://fabava.memberzone.com/events/details/2017-stop-being-social-and-start-selling-700
END:VEVENT

END:VCALENDAR
