BEGIN:VCALENDAR
VERSION:2.0
PRODID:-//ChamberMaster//Event Calendar 2.0//EN
METHOD:PUBLISH
X-PUBLISHED-TTL:P3D
REFRESH-INTERVAL:P3D
CALSCALE:GREGORIAN
BEGIN:VEVENT
DTSTART:20171031T123000Z
DTEND:20171031T133000Z
X-MICROSOFT-CDO-ALLDAYEVENT:FALSE
SUMMARY:2017 - SMC Webinar - What's 'Appening?
DESCRIPTION:In today's world of buzzing\, beeping\, texting and tweeting\, your smartphone or tablet is the ultimate power tool! Learn how to leverage your pocket-size computer to its full potential. Learn how to become more efficient and organized with mundane tasks. Discover how a smartphone or tablet can deliver highly personalized\, high-touch\, follow-up messages to prospects. Worried you are addicted to your smartphone? In this webinar\, you will learn how to use your smartphone to be more connected and less distracted resulting in more productive work time and more fulfilling personal time.\n\nLearning Objectives\n\n\n	Maximize a smartphone or tablet for business purposes\n	Stay organized and become more efficient with apps\n	Stay connected with your important clients and prospects\n	Respond more quickly to leads\n	Discover new technology solutions for your business
X-ALT-DESC;FMTTYPE=text/html:<p>In today&rsquo\;s world of buzzing\, beeping\, texting and tweeting\, your smartphone or tablet is the ultimate power tool! Learn how to leverage your pocket-size computer to its full potential. Learn how to become more efficient and organized with mundane tasks. Discover how a smartphone or tablet can deliver highly personalized\, high-touch\, follow-up messages to prospects. Worried you are addicted to your smartphone? In this webinar\, you will learn how to use your smartphone to be more connected and less distracted resulting in more productive work time and more fulfilling personal time.</p>\n\n<p><strong>Learning Objectives</strong></p>\n\n<ul>\n	<li>Maximize&nbsp\;a smartphone or tablet for business purposes</li>\n	<li>Stay organized and become more efficient with apps</li>\n	<li>Stay connected with your important clients and prospects</li>\n	<li>Respond&nbsp\;more quickly to leads</li>\n	<li>Discover&nbsp\;new technology solutions for your business</li>\n</ul>\n
LOCATION:FABA Boardroom 3006 Lafayette Boulevard Fredericksburg\, VA 22408
UID:e.9458.802
SEQUENCE:3
DTSTAMP:20260424T143652Z
URL:http://fabava.memberzone.com/events/details/2017-smc-webinar-what-s-appening-802
END:VEVENT

END:VCALENDAR
