BEGIN:VCALENDAR
VERSION:2.0
PRODID:-//ChamberMaster//Event Calendar 2.0//EN
METHOD:PUBLISH
X-PUBLISHED-TTL:P3D
REFRESH-INTERVAL:P3D
CALSCALE:GREGORIAN
BEGIN:VEVENT
DTSTART:20171214T133000Z
DTEND:20171214T143000Z
X-MICROSOFT-CDO-ALLDAYEVENT:FALSE
SUMMARY:2017 - SMC DISC Personalities
DESCRIPTION:Sherrie Shaw will be offering a class on DISC for SMC at FABA. Join us for Coffee and FABA personalities!\n\n \n\nDISC is a powerful and profoundly simple tool to understand people. Human behavior can be a mystery. At home or in the workplace\, behavior and personality are often misunderstood and often become areas of stress affecting your work productivity\, and happiness. The good news is a simple DISC test can unlock the key to better relationships\, conflict resolution\, motivation\, and self-growth.
X-ALT-DESC;FMTTYPE=text/html:Sherrie Shaw will be offering a class on DISC for SMC at FABA. Join us for Coffee and FABA personalities!<br />\n&nbsp\;\n<div class="col-md-6" style="box-sizing: border-box\; position: relative\; min-height: 1px\; padding-right: 15px\; padding-left: 15px\; float: left\; width: 503.6px\; color: rgb(119\, 119\, 119)\; font-family: &quot\;Open Sans&quot\;\, &quot\;Helvetica Neue&quot\;\, Helvetica\, Arial\, sans-serif\; font-size: 13px\; font-style: normal\; font-variant-ligatures: normal\; font-variant-caps: normal\; font-weight: 400\; letter-spacing: normal\; orphans: 2\; text-align: start\; text-indent: 0px\; text-transform: none\; white-space: normal\; widows: 2\; word-spacing: 0px\; -webkit-text-stroke-width: 0px\; background-color: rgb(255\, 255\, 255)\; text-decoration-style: initial\; text-decoration-color: initial\;">\n<p class="lead" style="box-sizing: border-box\; margin: 0px 0px 20px\; font-size: 21px\; font-weight: 300\; line-height: 1.4\;"><strong style="box-sizing: border-box\; font-weight: 700\;">DISC is a powerful and profoundly simple tool to understand people.</strong><span>&nbsp\;</span>Human behavior can be a mystery. At home or in the workplace\, behavior and personality are often misunderstood and often become areas of stress affecting your work productivity\, and happiness. The good news is a simple DISC test can unlock the key to better relationships\, conflict resolution\, motivation\, and self-growth.&nbsp\;</p>\n</div>\n
LOCATION:FABA Boardroom
UID:e.9458.811
SEQUENCE:3
DTSTAMP:20260424T090019Z
URL:http://fabava.memberzone.com/events/details/2017-smc-disc-personalities-811
END:VEVENT

END:VCALENDAR
