BEGIN:VCALENDAR
VERSION:2.0
PRODID:-//ChamberMaster//Event Calendar 2.0//EN
METHOD:PUBLISH
X-PUBLISHED-TTL:P3D
REFRESH-INTERVAL:P3D
CALSCALE:GREGORIAN
BEGIN:VEVENT
DTSTART:20170331T133000Z
DTEND:20170331T150000Z
X-MICROSOFT-CDO-ALLDAYEVENT:FALSE
SUMMARY:2017 - Sales & Marketing Council (SMC) Kick-Off
DESCRIPTION:SMC Kick-Off\n\nI am so happy to announce the re-establishment of the Sales and Marketing Council (SMC) at Fredericksburg Area Builders Association.  The council connects people and builds careers through educational opportunities\, awards and recognition programs\, sales and marketing tools and networking. It is run and fueled by the members of the council and their educational needs/interests. \n\n\n\nOur first SMC meeting will take place on Friday\, March 31st at 9:30 am.  The meeting will take place at Comfort Suites Fredericksburg South\, 4615 Southpoint Parkway\, Fredericksburg VA  22407.  We will discuss what the Sales and Marketing Council is\, its mission and how you may become a member of the council. The following SMC Council leadership positions may be applied for: Executive Chair of SMC\, Executive Chair of Education\, Executive Chair of Membership and Executive Chair of Events.
X-ALT-DESC;FMTTYPE=text/html:SMC Kick-Off<br />\n<span style="background: white\; color: black\; font-family: &quot\;Calibri&quot\;\,&quot\;sans-serif&quot\;\; font-size: 10.5pt\; mso-fareast-font-family: Calibri\; mso-fareast-theme-font: minor-latin\; mso-bidi-font-family: &quot\;Times New Roman&quot\;\; mso-ansi-language: EN-US\; mso-fareast-language: EN-US\; mso-bidi-language: AR-SA\;">I am so happy to announce the re-establishment of the Sales and Marketing Council (SMC) at </span><span style="color: black\; font-family: &quot\;Calibri&quot\;\,&quot\;sans-serif&quot\;\; font-size: 10.5pt\; mso-fareast-font-family: Calibri\; mso-fareast-theme-font: minor-latin\; mso-bidi-font-family: &quot\;Times New Roman&quot\;\; mso-ansi-language: EN-US\; mso-fareast-language: EN-US\; mso-bidi-language: AR-SA\;">Fredericksburg Area Builders Association<span style="background: white\;">.&nbsp\; The council connects people and builds careers through educational opportunities\, awards and recognition programs\, sales and marketing tools and networking.&nbsp\;It is run and fueled by the members of the council and their educational needs/interests.&nbsp\;<br />\n<br />\nOur first SMC meeting will take place on Friday\, March 31st at 9:30 am.&nbsp\; The meeting will take place at Comfort Suites Fredericksburg South\, 4615 Southpoint Parkway\, Fredericksburg VA&nbsp\; 22407.&nbsp\; We will discuss&nbsp\;what the Sales and Marketing Council is\,&nbsp\;its mission and how you may&nbsp\;become a member of the council. </span></span><span style="font-family: &quot\;Calibri&quot\;\,&quot\;sans-serif&quot\;\; font-size: 10.5pt\; mso-fareast-font-family: Calibri\; mso-fareast-theme-font: minor-latin\; mso-bidi-font-family: &quot\;Times New Roman&quot\;\; mso-ansi-language: EN-US\; mso-fareast-language: EN-US\; mso-bidi-language: AR-SA\;"><font color="#000000">The following SMC Council leadership positions may be applied for: Executive Chair of SMC\, Executive Chair of Education\, Executive Chair of Membership and Executive Chair of Events.</font></span>
LOCATION:Location is: Comfort Suites Fredericksburg South 4615 Southpoint Parkway Fredericksburg\, VA 22407
UID:e.9458.641
SEQUENCE:3
DTSTAMP:20260425T004327Z
URL:http://fabava.memberzone.com/events/details/2017-sales-marketing-council-smc-kick-off-641
END:VEVENT

END:VCALENDAR
