BEGIN:VCALENDAR
VERSION:2.0
PRODID:-//ChamberMaster//Event Calendar 2.0//EN
METHOD:PUBLISH
X-PUBLISHED-TTL:P3D
REFRESH-INTERVAL:P3D
CALSCALE:GREGORIAN
BEGIN:VEVENT
DTSTART:20170914T200000Z
DTEND:20170914T210000Z
X-MICROSOFT-CDO-ALLDAYEVENT:FALSE
SUMMARY:2017 - Member Orientation
DESCRIPTION:Welcoming the new members from 2017.
X-ALT-DESC;FMTTYPE=text/html:Welcoming the new members from 2017.
LOCATION:Chatterbox Lounge Upstairs at Paragon/Splitsville 51 Towne Centre Boulevard\, Fredericksburg\, VA 22407
UID:e.9458.729
SEQUENCE:3
DTSTAMP:20260424T155106Z
URL:http://fabava.memberzone.com/events/details/2017-member-orientation-729
END:VEVENT

END:VCALENDAR
