BEGIN:VCALENDAR
VERSION:2.0
PRODID:-//ChamberMaster//Event Calendar 2.0//EN
METHOD:PUBLISH
X-PUBLISHED-TTL:P3D
REFRESH-INTERVAL:P3D
CALSCALE:GREGORIAN
BEGIN:VEVENT
DTSTART:20171115T133000Z
DTEND:20171115T143000Z
X-MICROSOFT-CDO-ALLDAYEVENT:FALSE
SUMMARY:2017 - Eating Healthy on the Run
DESCRIPTION:Come join us for a healthy breakfast and learn how to eat healthy on the run\, especially during the holidays! Nutrionist Donna Hetrick will be speaking on how to make quick\, healthy meals and snacks and also which prepared foods are the best for all you busy people!
X-ALT-DESC;FMTTYPE=text/html:<span class="_4n-j _3cht fsl" data-testid="event-permalink-details">Come join us for a healthy breakfast and learn how to eat healthy on the run\, especially during the holidays! Nutrionist Donna Hetrick will be speaking on how to make quick\, healthy meals and snacks and also which prepared foods are the best for all you busy people!</span>
LOCATION:FABA Boardroom 3006 Lafayette Boulevard
UID:e.9458.805
SEQUENCE:3
DTSTAMP:20260424T130304Z
URL:http://fabava.memberzone.com/events/details/2017-eating-healthy-on-the-run-805
END:VEVENT

END:VCALENDAR
