BEGIN:VCALENDAR
VERSION:2.0
PRODID:-//ChamberMaster//Event Calendar 2.0//EN
METHOD:PUBLISH
X-PUBLISHED-TTL:P3D
REFRESH-INTERVAL:P3D
CALSCALE:GREGORIAN
BEGIN:VEVENT
DTSTART:20170329T120000Z
DTEND:20170329T150000Z
X-MICROSOFT-CDO-ALLDAYEVENT:FALSE
SUMMARY:2017 - Builder Direct Connect-Associates Registration
DESCRIPTION:8:00am-9:00am\n\nBuilders: \n\nVirginia Industry update given by HBAV's Mike Toalson while enjoying a complimentary breakfast.\n\nBuilders call the FABA office today! 540-898-2730.\n\n \n\n9:00am-11:00am \n\nAssociates:\n\n Give your "sales pitch" to the builders in speed dating style. Each company rep will get 5 to 7 minutes to have "face time" in front of 15 to 20 builders. \n\n20 associate/vendors spots available.\n\n Associates cost $200.
X-ALT-DESC;FMTTYPE=text/html:<strong><span style="font-size:18.0pt\;">8:00am-9:00am</span></strong><br />\n<strong><span style="font-size:24.0pt\;">Builders: </span></strong><br />\n<span style="font-size:20.0pt\;">Virginia Industry update given by HBAV</span><span style="font-family:tw cen mt\,sans-serif\;"><span style="font-size:20.0pt\;">&rsquo\;</span></span><span style="font-size:20.0pt\;">s Mike Toalson while enjoying a complimentary breakfast.<br />\nBuilders call the FABA office today! 540-898-2730.</span><br />\n&nbsp\;<br />\n<strong><span style="font-family:calibri\,sans-serif\;"><span style="font-size:18.0pt\;">9:00am-11:00am </span></span></strong><br />\n<strong><span style="font-family:calibri\,sans-serif\;"><span style="font-size:24.0pt\;">Associates</span></span></strong><span style="font-family:calibri\,sans-serif\;"><span style="font-size:24.0pt\;">:</span></span><br />\n<span style="font-family:calibri\,sans-serif\;"><span style="font-size:20.0pt\;">&nbsp\;Give your </span></span><span style="font-family:tw cen mt\,sans-serif\;"><span style="font-size:20.0pt\;">&ldquo\;</span></span><span style="font-family:calibri\,sans-serif\;"><span style="font-size:20.0pt\;">sales pitch</span></span><span style="font-family:tw cen mt\,sans-serif\;"><span style="font-size:20.0pt\;">&rdquo\;</span></span><span style="font-family:calibri\,sans-serif\;"><span style="font-size:20.0pt\;"> to the builders in speed dating style. Each company rep will get 5 to 7 minutes to have </span></span><span style="font-family:tw cen mt\,sans-serif\;"><span style="font-size:20.0pt\;">&ldquo\;</span></span><span style="font-family:calibri\,sans-serif\;"><span style="font-size:20.0pt\;">face time</span></span><span style="font-family:tw cen mt\,sans-serif\;"><span style="font-size:20.0pt\;">&rdquo\;</span></span><span style="font-family:calibri\,sans-serif\;"><span style="font-size:20.0pt\;"> in front of 15 to 20 builders. </span></span><br />\n<strong><span style="font-family:calibri\,sans-serif\;"><span style="font-size:24.0pt\;">20 associate/vendors spots available.</span></span></strong><br />\n<span style="font-family:calibri\,sans-serif\;"><span style="font-size:20.0pt\;">&nbsp\;Associates cost $200.</span></span><br />\n&nbsp\;<br />\n&nbsp\;
LOCATION:Fredericksburg Country Club 11301 Tidewater Trail Fredericksburg\, VA 22408
UID:e.9458.540
SEQUENCE:3
DTSTAMP:20260425T040823Z
URL:http://fabava.memberzone.com/events/details/2017-builder-direct-connect-associates-registration-540
END:VEVENT

END:VCALENDAR
