BEGIN:VCALENDAR
VERSION:2.0
PRODID:-//ChamberMaster//Event Calendar 2.0//EN
METHOD:PUBLISH
X-PUBLISHED-TTL:P3D
REFRESH-INTERVAL:P3D
CALSCALE:GREGORIAN
BEGIN:VEVENT
DTSTART:20160805T210000Z
DTEND:20160806T010000Z
X-MICROSOFT-CDO-ALLDAYEVENT:FALSE
SUMMARY:2016 - FABA CRABFEAST & BBQ
DESCRIPTION:Come out and enjoy a fun filled evening!\n\nCrabs\, barbecue\, cornhole\, and our personal favorite\, networking!\n\nSponsor a tent for $400\, receive a tent\, a table and 8 chairs\, and join in the tent decorating contest.\n\nCornhole board set and more items will be raffled.
X-ALT-DESC;FMTTYPE=text/html:<p>Come out and enjoy a fun filled evening!</p>\n\n<p>Crabs\, barbecue\, cornhole\, and our personal favorite\, networking!</p>\n\n<p>Sponsor a tent for $400\, receive a tent\, a table and 8 chairs\, and join in the tent decorating contest.</p>\n\n<p>Cornhole board set&nbsp\;and more items will be raffled.</p>\n\n<p><br />\n&nbsp\;</p>\n\n<p>&nbsp\;</p>\n\n<p>&nbsp\;</p>\n
LOCATION:Fredericksburg Rod and Gun Club 9907 Benchmark Road\, Fredericksburg\, VA 22408
UID:e.9458.102
SEQUENCE:3
DTSTAMP:20260425T191513Z
URL:http://fabava.memberzone.com/events/details/2016-faba-crabfeast-bbq-102
END:VEVENT

END:VCALENDAR
